BEGIN:VCALENDAR
VERSION:2.0
PRODID:-//Squarespace Inc/Squarespace 6//v6//EN
BEGIN:VEVENT
UID:58a66f1c1b631b4f5f315e8f@squarespace.com
DTSTAMP:20170308T050839Z
DTSTART:20170309T100000Z
DTEND:20170309T113000Z
SUMMARY:Superannuation Client Briefing
GEO:-31.933733;115.84094
LOCATION:213 Oxford Street\, Leederville\, WA\, 6007\, Australia
END:VEVENT
END:VCALENDAR
